BEGIN:VCALENDAR
VERSION:2.0
PRODID:-//Washington County Historical Society - ECPv6.15.20//NONSGML v1.0//EN
CALSCALE:GREGORIAN
METHOD:PUBLISH
X-ORIGINAL-URL:https://wchs-ny.org
X-WR-CALDESC:Events for Washington County Historical Society
REFRESH-INTERVAL;VALUE=DURATION:PT1H
X-Robots-Tag:noindex
X-PUBLISHED-TTL:PT1H
BEGIN:VTIMEZONE
TZID:UTC
BEGIN:STANDARD
TZOFFSETFROM:+0000
TZOFFSETTO:+0000
TZNAME:UTC
DTSTART:20250101T000000
END:STANDARD
END:VTIMEZONE
BEGIN:VEVENT
DTSTART;TZID=UTC:20261209T123000
DTEND;TZID=UTC:20261209T133000
DTSTAMP:20260419T222452
CREATED:20260331T162008Z
LAST-MODIFIED:20260331T162008Z
UID:21649-1796819400-1796823000@wchs-ny.org
SUMMARY:December Local History Book Club
DESCRIPTION:The Washington County Historical Society’s Local History Book Club will meet from 12:30 to 1:30 on Wednesday\, December 9th. We sometimes meet at various locations around the county. Check back again. Otherwise\, Book Club meets at the Wing-Northup House\, 167 Broadway\, Fort Edward NY. Membership in the historical society is not required.
URL:https://wchs-ny.org/event/december-local-history-book-club-2/
LOCATION:Wing- Northup House\, 167 Boadway\, Fort Edward\, NY\, 12828\, United States
ORGANIZER;CN="Connie Farrington":MAILTO:connieandLee@roadrunner.com
END:VEVENT
BEGIN:VEVENT
DTSTART;TZID=UTC:20261221T183000
DTEND;TZID=UTC:20261221T193000
DTSTAMP:20260419T222452
CREATED:20260331T145429Z
LAST-MODIFIED:20260331T145429Z
UID:21623-1797877800-1797881400@wchs-ny.org
SUMMARY:December Monthly Board Meeting
DESCRIPTION:Monthly Board Meeting on December 21st at 6:30pm in the Wing-Northup House\, 167 Broadway\, Fort Edward. All members are welcome to attend.
URL:https://wchs-ny.org/event/december-monthly-board-meeting/
LOCATION:Wing- Northup House\, 167 Boadway\, Fort Edward\, NY\, 12828\, United States
ORGANIZER;CN="Washington County Historical Society":MAILTO:wchs@wchs-ny.org
END:VEVENT
END:VCALENDAR