BEGIN:VCALENDAR
VERSION:2.0
PRODID:-//Washington County Historical Society - ECPv6.15.20//NONSGML v1.0//EN
CALSCALE:GREGORIAN
METHOD:PUBLISH
X-WR-CALNAME:Washington County Historical Society
X-ORIGINAL-URL:https://wchs-ny.org
X-WR-CALDESC:Events for Washington County Historical Society
REFRESH-INTERVAL;VALUE=DURATION:PT1H
X-Robots-Tag:noindex
X-PUBLISHED-TTL:PT1H
BEGIN:VTIMEZONE
TZID:UTC
BEGIN:STANDARD
TZOFFSETFROM:+0000
TZOFFSETTO:+0000
TZNAME:UTC
DTSTART:20210101T000000
END:STANDARD
END:VTIMEZONE
BEGIN:VEVENT
DTSTART;TZID=UTC:20220512T183000
DTEND;TZID=UTC:20220512T200000
DTSTAMP:20260420T062315
CREATED:20220418T155244Z
LAST-MODIFIED:20220418T155748Z
UID:1244-1652380200-1652385600@wchs-ny.org
SUMMARY:Cemetery Restoration in the North Country
DESCRIPTION:Join us in celebrating Preservation Month with our Cronkite Lecture Series each Thursday of the month.\nJoseph Ferannini will discuss the work he has done in cemetery restoration in the North Country. Mr. Ferannini worked on the Salem Revolutionary Cemetery in Salem\, New York.
URL:https://wchs-ny.org/event/cemetery-restoration-in-the-north-country/
LOCATION:Canal Street Marketplace\, 63 Canal Street\, Fort Edward\, NY\, 12828\, United States
ATTACH;FMTTYPE=image/jpeg:https://wchs-ny.org/wp-content/uploads/2022/04/277582175_5136713196411217_9002683919812982024_n.jpg
END:VEVENT
BEGIN:VEVENT
DTSTART;TZID=UTC:20220505T183000
DTEND;TZID=UTC:20220505T200000
DTSTAMP:20260420T062315
CREATED:20220418T155627Z
LAST-MODIFIED:20220504T172106Z
UID:1247-1651775400-1651780800@wchs-ny.org
SUMMARY:Proper Way to Clean Gravestones
DESCRIPTION:Join us in celebrating Preservation Month with our Cronkite Lecture Series each Thursday of the month.\nBrian Raymond will teach the proper way to clean headstones. Mr. Raymond will demonstrate stone cleaning using the correct tools and proper cleaning solutions. The time is tentatively set at 6:30 pm but might change due to proper lighting for the talk/demonstration.\nPlease park at the firehouse and NOT on Route 4.
URL:https://wchs-ny.org/event/proper-way-to-clean-gravestones/
LOCATION:Kingsbury Cemetery\, 12 Kingsbury Rd\, Hudson Falls\, NY\, 12839\, United States
ATTACH;FMTTYPE=image/jpeg:https://wchs-ny.org/wp-content/uploads/2022/04/277516128_5136698846412652_8712733127646722819_n.jpg
END:VEVENT
BEGIN:VEVENT
DTSTART;TZID=UTC:20220324T190000
DTEND;TZID=UTC:20220324T190000
DTSTAMP:20260420T062315
CREATED:20220314T164234Z
LAST-MODIFIED:20220314T164234Z
UID:653-1648148400-1648148400@wchs-ny.org
SUMMARY:WWII AIRCRAFT WARNING SERVICE IN HEBRON
DESCRIPTION:Ralph Kruger will present a program about the civilian volunteers who were recruited by the US Army in 1944 to observe aircraft from their hilltop observation post in Hebron.
URL:https://wchs-ny.org/event/wwii-aircraft-warning-service-in-hebron/
LOCATION:Wing- Northup House\, 167 Boadway\, Fort Edward\, NY\, 12828\, United States
END:VEVENT
END:VCALENDAR