BEGIN:VCALENDAR
VERSION:2.0
PRODID:-//Washington County Historical Society - ECPv6.15.20//NONSGML v1.0//EN
CALSCALE:GREGORIAN
METHOD:PUBLISH
X-ORIGINAL-URL:https://wchs-ny.org
X-WR-CALDESC:Events for Washington County Historical Society
REFRESH-INTERVAL;VALUE=DURATION:PT1H
X-Robots-Tag:noindex
X-PUBLISHED-TTL:PT1H
BEGIN:VTIMEZONE
TZID:UTC
BEGIN:STANDARD
TZOFFSETFROM:+0000
TZOFFSETTO:+0000
TZNAME:UTC
DTSTART:20230101T000000
END:STANDARD
END:VTIMEZONE
BEGIN:VEVENT
DTSTART;TZID=UTC:20240807T183000
DTEND;TZID=UTC:20240807T193000
DTSTAMP:20260424T030045
CREATED:20240618T132924Z
LAST-MODIFIED:20240618T132924Z
UID:13857-1723055400-1723059000@wchs-ny.org
SUMMARY:The Lime Kilns of Bald Mountain: Lowber's Legacy
DESCRIPTION:On Wednesday\, August 7\, at 6:30 p.m.\, participants will travel back in time to look at the lost lyme industry of Bald Mountain and the man who made the hamlet into a thriving\, industrious community of the time\, Robert Lowber.\nLime was a prosperous industry in the early to mid-19th century. Though already in production in Bald Mountain\, it wasn’t until Robert Lowber purchased the kilns that the hamlet became a bustling hub. An enterprising and forceful personality\, Lowber was an early captain of industry in the Greenwich area\, developing a community in Bald Mountain that would promote the lime industry and become notable for its high quality product. \nThe presenters include\, \nSandy McReynolds\, Town of Greenwich Historian as well as the Greenwich Free Library’s I.V.H. Gill Room Historian. \nKen Perry\, a former resident of Bald Mountain\, artist\, author\, genealogist and local historian. \nKC Scott\, Greenwich Free Library staff member and Greenwich resident. \nThe program will be given at the Fort Miller Reformed Church\, 1239 Fort Miller Rd\, Fort Miller (Town of Fort Edward\, off Route 4)\, New York on Wednesday\, August 7\, 2024 at 6:30 p.m. \nFor more information\, please contact the Washington County Historical Society at 518-747-9108. The Historical Society is open Tuesday and Wednesday from 9:30 a.m. – 4:30 p.m. \n 
URL:https://wchs-ny.org/event/the-lime-kilns-of-bald-mountain-lowbers-legacy/
LOCATION:Fort Miller Reformed Church\, 1239 Fort Miller Road\, Fort Edward\, NY\, 12828\, United States
ATTACH;FMTTYPE=image/png:https://wchs-ny.org/wp-content/uploads/2024/06/250th-and-1-e1718717289775.png
END:VEVENT
END:VCALENDAR