BEGIN:VCALENDAR
VERSION:2.0
PRODID:-//Washington County Historical Society - ECPv6.15.20//NONSGML v1.0//EN
CALSCALE:GREGORIAN
METHOD:PUBLISH
X-ORIGINAL-URL:https://wchs-ny.org
X-WR-CALDESC:Events for Washington County Historical Society
REFRESH-INTERVAL;VALUE=DURATION:PT1H
X-Robots-Tag:noindex
X-PUBLISHED-TTL:PT1H
BEGIN:VTIMEZONE
TZID:UTC
BEGIN:STANDARD
TZOFFSETFROM:+0000
TZOFFSETTO:+0000
TZNAME:UTC
DTSTART:20230101T000000
END:STANDARD
END:VTIMEZONE
BEGIN:VEVENT
DTSTART;TZID=UTC:20240912T080000
DTEND;TZID=UTC:20240912T170000
DTSTAMP:20260424T011911
CREATED:20240819T134247Z
LAST-MODIFIED:20240819T134247Z
UID:14611-1726128000-1726160400@wchs-ny.org
SUMMARY:WCHS Benefit Night at Cooper's Cave Ale Company
DESCRIPTION:We welcome our members and the public to come support the Washington Historical Society Thursday\, September 12th at Cooper’s Cave Ale Company! From 4pm to close (8pm)\, 15% of food and drink sales will be donated to the society to continue on our mission. PLEASE ANNOUNCE TO YOUR HOST AND SERVER THAT YOU ARE ATTENDING THE BENEFIT FOR THE WASHINGTON COUNTY HISTORICAL SOCIETY.\n\nThe Washington County Historical Society is an educational organization dedicated to engaging diverse audiences in the study and appreciation of the collective heritage of Washington County\, New York and its environs.
URL:https://wchs-ny.org/event/wchs-benefit-night-at-coopers-cave-ale-company/
LOCATION:Cooper’s Cave Ale Company\, 2 Sagamore Street\, Glens Falls\, NY\, 12801\, United States
ATTACH;FMTTYPE=image/png:https://wchs-ny.org/wp-content/uploads/2024/08/Yellow-Beer-Open-Bar-Instagram-Post-1920-x-1080-px-e1724074929183.png
END:VEVENT
BEGIN:VEVENT
DTSTART;TZID=UTC:20240913T120000
DTEND;TZID=UTC:20240913T130000
DTSTAMP:20260424T011911
CREATED:20240819T121437Z
LAST-MODIFIED:20240819T121437Z
UID:14601-1726228800-1726232400@wchs-ny.org
SUMMARY:WCHS Local History Book Club
DESCRIPTION:Sept. 13\, 2024 Meeting of WCHS Local History Book Club \nWashington County Historical Society’s Local History Book Club will meet from 12 noon until 1 PM on Friday\, Sept. 13\, at Skenesborough Museum\, Skenesborough Drive\, Whitehall. Historical society membership is not required for the book club. Any biography of Benedict Arnold can be read but discussion will focus on Arnold’s part in the building of the First Navy at what is now Whitehall. Five dollar admission fee includes a tour of the museum which can be done before or after the book discussion. \nThe October 11 meeting will be at noon at the historical society building\, 167 Broadway\, Fort Edward and will discuss Thaddeus Kosciusko’s role in the Revolution\, particularly at Ticonderoga and Saratoga. \nThe book club meets on the second Friday of the month at twelve o’clock. Future sessions of the club will include books about the larger Adirondack area as well as works by local authors. Upcoming topics include the temperance movement in our area\, Benjamin Franklin’s failed mission to Canada\, and William Miller and the Millerites in Hampton. For additional information\, email Connie Harris Farrington at connieandlee@roadrunner.com.
URL:https://wchs-ny.org/event/wchs-local-history-book-club-17/
LOCATION:Skenesborough Museum\, Skenesborough Drive\, Whitehall\, 12887\, United States
ATTACH;FMTTYPE=image/jpeg:https://wchs-ny.org/wp-content/uploads/2024/08/Cambridge-Fair-Local-History-Book-Club-e1724069648124.jpg
END:VEVENT
END:VCALENDAR