BEGIN:VCALENDAR
VERSION:2.0
PRODID:-//Washington County Historical Society - ECPv6.15.20//NONSGML v1.0//EN
CALSCALE:GREGORIAN
METHOD:PUBLISH
X-ORIGINAL-URL:https://wchs-ny.org
X-WR-CALDESC:Events for Washington County Historical Society
REFRESH-INTERVAL;VALUE=DURATION:PT1H
X-Robots-Tag:noindex
X-PUBLISHED-TTL:PT1H
BEGIN:VTIMEZONE
TZID:UTC
BEGIN:STANDARD
TZOFFSETFROM:+0000
TZOFFSETTO:+0000
TZNAME:UTC
DTSTART:20250101T000000
END:STANDARD
END:VTIMEZONE
BEGIN:VEVENT
DTSTART;TZID=UTC:20260903T160000
DTEND;TZID=UTC:20260903T170000
DTSTAMP:20260419T132259
CREATED:20260331T135918Z
LAST-MODIFIED:20260331T135918Z
UID:21573-1788451200-1788454800@wchs-ny.org
SUMMARY:250th Anniversary of the Revolution Committee Meeting
DESCRIPTION:This month’s 250th committee meeting will meet on Thursday September 3rd in the Roger’s Island Visitor Center\, Fort Edward at 4:00 pm. Volunteers needed. General public invited.
URL:https://wchs-ny.org/event/250th-anniversary-of-the-revolution-committee-meeting-8/
LOCATION:Rogers Island Visitor Center\, 11 Rogers Island Drive\, Fort Edward\, NY\, 12828\, United States
ORGANIZER;CN="Washington County 250th Committee":MAILTO:wchs@wchs-ny.org
END:VEVENT
BEGIN:VEVENT
DTSTART;TZID=UTC:20260909T123000
DTEND;TZID=UTC:20260909T133000
DTSTAMP:20260419T132259
CREATED:20260331T160225Z
LAST-MODIFIED:20260331T160225Z
UID:21642-1788957000-1788960600@wchs-ny.org
SUMMARY:September Local History Book Club
DESCRIPTION:The Washington County Historical Society’s Local History Book Club will meet from 12:30 to 1:30 on Wednesday\, September 9th. We sometimes meet at various locations around the county. Check back again. Otherwise\, Book Club meets at the Wing-Northup House\, 167 Broadway\, Fort Edward NY. Membership in the historical society is not required.
URL:https://wchs-ny.org/event/september-local-history-book-club-2/
LOCATION:Wing- Northup House\, 167 Boadway\, Fort Edward\, NY\, 12828\, United States
ORGANIZER;CN="Connie Farrington":MAILTO:connieandLee@roadrunner.com
END:VEVENT
BEGIN:VEVENT
DTSTART;TZID=UTC:20260921T183000
DTEND;TZID=UTC:20260921T193000
DTSTAMP:20260419T132259
CREATED:20260331T144634Z
LAST-MODIFIED:20260331T144634Z
UID:21613-1790015400-1790019000@wchs-ny.org
SUMMARY:September Monthly Board Meeting
DESCRIPTION:Monthly Board Meeting on September 21st at 6:30pm in the Wing-Northup House\, 167 Broadway\, Fort Edward. All members are welcome to attend.
URL:https://wchs-ny.org/event/september-monthly-board-meeting/
LOCATION:Wing- Northup House\, 167 Boadway\, Fort Edward\, NY\, 12828\, United States
ORGANIZER;CN="Washington County Historical Society":MAILTO:wchs@wchs-ny.org
END:VEVENT
END:VCALENDAR